BEGIN:VCALENDAR
VERSION:2.0
PRODID:-//Austin/Travis and Williamson Counties Emergency Food &amp; Shelter Program - ECPv6.15.20//NONSGML v1.0//EN
CALSCALE:GREGORIAN
METHOD:PUBLISH
X-ORIGINAL-URL:https://atwcefsp.org
X-WR-CALDESC:Events for Austin/Travis and Williamson Counties Emergency Food &amp; Shelter Program
REFRESH-INTERVAL;VALUE=DURATION:PT1H
X-Robots-Tag:noindex
X-PUBLISHED-TTL:PT1H
BEGIN:VTIMEZONE
TZID:America/Chicago
BEGIN:DAYLIGHT
TZOFFSETFROM:-0600
TZOFFSETTO:-0500
TZNAME:CDT
DTSTART:20210314T080000
END:DAYLIGHT
BEGIN:STANDARD
TZOFFSETFROM:-0500
TZOFFSETTO:-0600
TZNAME:CST
DTSTART:20211107T070000
END:STANDARD
BEGIN:DAYLIGHT
TZOFFSETFROM:-0600
TZOFFSETTO:-0500
TZNAME:CDT
DTSTART:20220313T080000
END:DAYLIGHT
BEGIN:STANDARD
TZOFFSETFROM:-0500
TZOFFSETTO:-0600
TZNAME:CST
DTSTART:20221106T070000
END:STANDARD
BEGIN:DAYLIGHT
TZOFFSETFROM:-0600
TZOFFSETTO:-0500
TZNAME:CDT
DTSTART:20230312T080000
END:DAYLIGHT
BEGIN:STANDARD
TZOFFSETFROM:-0500
TZOFFSETTO:-0600
TZNAME:CST
DTSTART:20231105T070000
END:STANDARD
END:VTIMEZONE
BEGIN:VEVENT
DTSTART;VALUE=DATE:20220210
DTEND;VALUE=DATE:20220211
DTSTAMP:20260421T144406
CREATED:20211220T232845Z
LAST-MODIFIED:20220202T221355Z
UID:387-1644451200-1644537599@atwcefsp.org
SUMMARY:UPDATED: Applications DUE @ 5:00 p.m. for Phase 39 and ARPAR
DESCRIPTION:Deadline has been updated due to winter storm.  New deadline is February 10\, 2022 at 5:00 p.m.
URL:https://atwcefsp.org/event/applications-due-for-phase-39-and-arpar-5-p-m/
END:VEVENT
END:VCALENDAR